BEGIN:VCALENDAR
VERSION:2.0
PRODID:-//SHEN - Sydney Home Education Network - ECPv6.15.18//NONSGML v1.0//EN
CALSCALE:GREGORIAN
METHOD:PUBLISH
X-WR-CALNAME:SHEN - Sydney Home Education Network
X-ORIGINAL-URL:https://shen.org.au
X-WR-CALDESC:Events for SHEN - Sydney Home Education Network
REFRESH-INTERVAL;VALUE=DURATION:PT1H
X-Robots-Tag:noindex
X-PUBLISHED-TTL:PT1H
BEGIN:VTIMEZONE
TZID:Australia/Sydney
BEGIN:STANDARD
TZOFFSETFROM:+1100
TZOFFSETTO:+1000
TZNAME:AEST
DTSTART:20230401T160000
END:STANDARD
BEGIN:DAYLIGHT
TZOFFSETFROM:+1000
TZOFFSETTO:+1100
TZNAME:AEDT
DTSTART:20230930T160000
END:DAYLIGHT
BEGIN:STANDARD
TZOFFSETFROM:+1100
TZOFFSETTO:+1000
TZNAME:AEST
DTSTART:20240406T160000
END:STANDARD
BEGIN:DAYLIGHT
TZOFFSETFROM:+1000
TZOFFSETTO:+1100
TZNAME:AEDT
DTSTART:20241005T160000
END:DAYLIGHT
BEGIN:STANDARD
TZOFFSETFROM:+1100
TZOFFSETTO:+1000
TZNAME:AEST
DTSTART:20250405T160000
END:STANDARD
BEGIN:DAYLIGHT
TZOFFSETFROM:+1000
TZOFFSETTO:+1100
TZNAME:AEDT
DTSTART:20251004T160000
END:DAYLIGHT
END:VTIMEZONE
BEGIN:VEVENT
DTSTART;TZID=Australia/Sydney:20241125T100000
DTEND;TZID=Australia/Sydney:20241125T140000
DTSTAMP:20260421T032427
CREATED:20241118T101148Z
LAST-MODIFIED:20241118T101411Z
UID:10004513-1732528800-1732543200@shen.org.au
SUMMARY:Maritime Museum - Special Event (Oosterschelde) - Free - Mon 25th Nov 24
DESCRIPTION:Maritime Museum has a very special visitor on Monday 25th November! A ship called the Oosterschelde which is retracing the scientific journey of Charles Darwin on The Beagle to the Galapagos Islands\, Patagonia among other exciting places. Students can watch some presentations from some youth conservation projects and then have a tour of the ship and get free access to galleries and other vessels at the museum. Students will hear from Chris Darwin (a descendant of Charles Darwin) as well as other scientists and conservations from across the globe.\n\n\n\nThis is a really good opportunity for any students 12yrs+ – it will book out quick. The event is FREE.\n\n\nhttps://www.eventbrite.com.au/…/darwin200-tour-and…\n\n\nAlso you can go to their website where they have great onsite learning classroom – focusing on science – https://worldsmostexcitingclassroom.com
URL:https://shen.org.au/event/maritime-museum-special-event-oosterschelde-free-mon-25th-nov-24/
LOCATION:Australian National Maritime Museum\, 2 Murray Street\, Darling Harbour\, NSW\, 2000\, Australia
CATEGORIES:Non-SHEN
ATTACH;FMTTYPE=image/png:https://shen.org.au/wp-content/uploads/2024/11/SHEN-Maritime-museum.png
GEO:-33.87488;151.2009
X-APPLE-STRUCTURED-LOCATION;VALUE=URI;X-ADDRESS=Australian National Maritime Museum 2 Murray Street Darling Harbour NSW 2000 Australia;X-APPLE-RADIUS=500;X-TITLE=2 Murray Street:geo:151.2009,-33.87488
END:VEVENT
BEGIN:VEVENT
DTSTART;TZID=Australia/Sydney:20241126T100000
DTEND;TZID=Australia/Sydney:20241126T140000
DTSTAMP:20260421T032427
CREATED:20240410T214146Z
LAST-MODIFIED:20241117T054205Z
UID:10004208-1732615200-1732629600@shen.org.au
SUMMARY:KinHub Weekly Meetup
DESCRIPTION:A not for profit\, parent-run hub for Sydney based learners (age 5+ and their siblings) who can’t/don’t attend school. We facilitate opportunities for collaboration and connection aimed at fostering personal growth and improving wellbeing.  Note KinHub meets weekly on Tuesdays during school terms only.
URL:https://shen.org.au/event/kinhub-weekly-meetup/2024-11-26/
LOCATION:Marrickville Youth Resource Centre\, 23 Yabsley Ave\, Marrickville\, NSW\, 2204\, Australia
CATEGORIES:Non-SHEN
ATTACH;FMTTYPE=image/png:https://shen.org.au/wp-content/uploads/2024/04/Screenshot-2024-04-10-at-7.47.16 PM.png
ORGANIZER;CN="Corinne Smith":MAILTO:hello@kinhub.org.au
GEO:-33.9067183;151.1558235
X-APPLE-STRUCTURED-LOCATION;VALUE=URI;X-ADDRESS=Marrickville Youth Resource Centre 23 Yabsley Ave Marrickville NSW 2204 Australia;X-APPLE-RADIUS=500;X-TITLE=23 Yabsley Ave:geo:151.1558235,-33.9067183
END:VEVENT
END:VCALENDAR