BEGIN:VCALENDAR
VERSION:2.0
PRODID:-//SHEN - Sydney Home Education Network - ECPv6.15.18//NONSGML v1.0//EN
CALSCALE:GREGORIAN
METHOD:PUBLISH
X-ORIGINAL-URL:https://shen.org.au
X-WR-CALDESC:Events for SHEN - Sydney Home Education Network
REFRESH-INTERVAL;VALUE=DURATION:PT1H
X-Robots-Tag:noindex
X-PUBLISHED-TTL:PT1H
BEGIN:VTIMEZONE
TZID:Australia/Sydney
BEGIN:STANDARD
TZOFFSETFROM:+1100
TZOFFSETTO:+1000
TZNAME:AEST
DTSTART:20230401T160000
END:STANDARD
BEGIN:DAYLIGHT
TZOFFSETFROM:+1000
TZOFFSETTO:+1100
TZNAME:AEDT
DTSTART:20230930T160000
END:DAYLIGHT
BEGIN:STANDARD
TZOFFSETFROM:+1100
TZOFFSETTO:+1000
TZNAME:AEST
DTSTART:20240406T160000
END:STANDARD
BEGIN:DAYLIGHT
TZOFFSETFROM:+1000
TZOFFSETTO:+1100
TZNAME:AEDT
DTSTART:20241005T160000
END:DAYLIGHT
BEGIN:STANDARD
TZOFFSETFROM:+1100
TZOFFSETTO:+1000
TZNAME:AEST
DTSTART:20250405T160000
END:STANDARD
BEGIN:DAYLIGHT
TZOFFSETFROM:+1000
TZOFFSETTO:+1100
TZNAME:AEDT
DTSTART:20251004T160000
END:DAYLIGHT
END:VTIMEZONE
BEGIN:VEVENT
DTSTART;TZID=Australia/Sydney:20240917T100000
DTEND;TZID=Australia/Sydney:20240917T140000
DTSTAMP:20260422T103125
CREATED:20240410T214146Z
LAST-MODIFIED:20241117T054205Z
UID:10004198-1726567200-1726581600@shen.org.au
SUMMARY:KinHub Weekly Meetup
DESCRIPTION:A not for profit\, parent-run hub for Sydney based learners (age 5+ and their siblings) who can’t/don’t attend school. We facilitate opportunities for collaboration and connection aimed at fostering personal growth and improving wellbeing.  Note KinHub meets weekly on Tuesdays during school terms only.
URL:https://shen.org.au/event/kinhub-weekly-meetup/2024-09-17/
LOCATION:Marrickville Youth Resource Centre\, 23 Yabsley Ave\, Marrickville\, NSW\, 2204\, Australia
CATEGORIES:Non-SHEN
ATTACH;FMTTYPE=image/png:https://shen.org.au/wp-content/uploads/2024/04/Screenshot-2024-04-10-at-7.47.16 PM.png
ORGANIZER;CN="Corinne Smith":MAILTO:hello@kinhub.org.au
GEO:-33.9067183;151.1558235
X-APPLE-STRUCTURED-LOCATION;VALUE=URI;X-ADDRESS=Marrickville Youth Resource Centre 23 Yabsley Ave Marrickville NSW 2204 Australia;X-APPLE-RADIUS=500;X-TITLE=23 Yabsley Ave:geo:151.1558235,-33.9067183
END:VEVENT
BEGIN:VEVENT
DTSTART;TZID=Australia/Sydney:20240921T180000
DTEND;TZID=Australia/Sydney:20240921T213000
DTSTAMP:20260422T103125
CREATED:20240814T113648Z
LAST-MODIFIED:20240814T113648Z
UID:10004475-1726941600-1726954200@shen.org.au
SUMMARY:HT Youth Formal
DESCRIPTION:HT Youth warmly welcome you to our Under the Sea formal. \nA supervised event with all food and entertainment provided. \nLocated in the Hills district Sydney address supplied at time of booking. \nAll dietary requirements provided for.
URL:https://shen.org.au/event/ht-youth-formal/
LOCATION:NSW
CATEGORIES:Non-SHEN
ATTACH;FMTTYPE=image/jpeg:https://shen.org.au/wp-content/uploads/2024/08/IMG_7679-1.jpeg
END:VEVENT
END:VCALENDAR