BEGIN:VCALENDAR
VERSION:2.0
PRODID:-//SHEN - Sydney Home Education Network - ECPv6.15.18//NONSGML v1.0//EN
CALSCALE:GREGORIAN
METHOD:PUBLISH
X-ORIGINAL-URL:https://shen.org.au
X-WR-CALDESC:Events for SHEN - Sydney Home Education Network
REFRESH-INTERVAL;VALUE=DURATION:PT1H
X-Robots-Tag:noindex
X-PUBLISHED-TTL:PT1H
BEGIN:VTIMEZONE
TZID:Australia/Sydney
BEGIN:STANDARD
TZOFFSETFROM:+1100
TZOFFSETTO:+1000
TZNAME:AEST
DTSTART:20230401T160000
END:STANDARD
BEGIN:DAYLIGHT
TZOFFSETFROM:+1000
TZOFFSETTO:+1100
TZNAME:AEDT
DTSTART:20230930T160000
END:DAYLIGHT
BEGIN:STANDARD
TZOFFSETFROM:+1100
TZOFFSETTO:+1000
TZNAME:AEST
DTSTART:20240406T160000
END:STANDARD
BEGIN:DAYLIGHT
TZOFFSETFROM:+1000
TZOFFSETTO:+1100
TZNAME:AEDT
DTSTART:20241005T160000
END:DAYLIGHT
BEGIN:STANDARD
TZOFFSETFROM:+1100
TZOFFSETTO:+1000
TZNAME:AEST
DTSTART:20250405T160000
END:STANDARD
BEGIN:DAYLIGHT
TZOFFSETFROM:+1000
TZOFFSETTO:+1100
TZNAME:AEDT
DTSTART:20251004T160000
END:DAYLIGHT
END:VTIMEZONE
BEGIN:VEVENT
DTSTART;TZID=Australia/Sydney:20240618T100000
DTEND;TZID=Australia/Sydney:20240618T140000
DTSTAMP:20260422T103026
CREATED:20240410T214146Z
LAST-MODIFIED:20241117T054205Z
UID:10004185-1718704800-1718719200@shen.org.au
SUMMARY:KinHub Weekly Meetup
DESCRIPTION:A not for profit\, parent-run hub for Sydney based learners (age 5+ and their siblings) who can’t/don’t attend school. We facilitate opportunities for collaboration and connection aimed at fostering personal growth and improving wellbeing.  Note KinHub meets weekly on Tuesdays during school terms only.
URL:https://shen.org.au/event/kinhub-weekly-meetup/2024-06-18/
LOCATION:Marrickville Youth Resource Centre\, 23 Yabsley Ave\, Marrickville\, NSW\, 2204\, Australia
CATEGORIES:Non-SHEN
ATTACH;FMTTYPE=image/png:https://shen.org.au/wp-content/uploads/2024/04/Screenshot-2024-04-10-at-7.47.16 PM.png
ORGANIZER;CN="Corinne Smith":MAILTO:hello@kinhub.org.au
GEO:-33.9067183;151.1558235
X-APPLE-STRUCTURED-LOCATION;VALUE=URI;X-ADDRESS=Marrickville Youth Resource Centre 23 Yabsley Ave Marrickville NSW 2204 Australia;X-APPLE-RADIUS=500;X-TITLE=23 Yabsley Ave:geo:151.1558235,-33.9067183
END:VEVENT
BEGIN:VEVENT
DTSTART;TZID=Australia/Sydney:20240622T140000
DTEND;TZID=Australia/Sydney:20240622T160000
DTSTAMP:20260422T103026
CREATED:20240620T224240Z
LAST-MODIFIED:20240620T224240Z
UID:10004446-1719064800-1719072000@shen.org.au
SUMMARY:Kids Choir & Kids Ensemble
DESCRIPTION:Kids Choir & Ensemble is back in session!\n\n\n\nJoin us this Saturday\, June 22nd for our first rehearsal as we gear up for a Christmas concert in December.\n\n\nThis will be led by as accomplished musician who is offering his time and support to empower kids who love music.\n\n\n\nKids need to bring their own instrument for rehearsals\, except for those who play piano; we will provide keyboards. All children 4–12 years old who love to sing or can play instruments (piano\, violin\, cello\, ukulele\, guitar\, clarinet\, flute\, glockenspiel\, and more) from beginner level to advanced are welcome to join!\n\nThis is FREE for the community.\n\n\n\nHere’s the link to register: https://forms.gle/QYFH6ayvA76UEvCn6\n\n\nAddress: Seventh-day Adventist\, Cnr Lane Cove Rd & Dobson Crescent\, Ryde \nDate: 22 June 2024 \nTime: 2pm
URL:https://shen.org.au/event/kids-choir-kids-ensemble/
LOCATION:NSW
CATEGORIES:Non-SHEN
ATTACH;FMTTYPE=image/jpeg:https://shen.org.au/wp-content/uploads/2024/06/1320652b-776e-4bd0-8391-d68894f91857.jpeg
END:VEVENT
END:VCALENDAR